BEGIN:VCALENDAR
VERSION:2.0
PRODID:SchoolNow
CALSCALE:GREGORIAN
BEGIN:VEVENT
UID:a510700a-a021-11ee-ad90-0a58a9feac02
DTSTAMP:20231221T165547Z
SUMMARY:Community Conversation on School Safety
LOCATION:Northwest Tri-County IU5
URL;VALUE=URI:https://www.iu5.org/calendar/5037443/community-conversation-o
 n-school-safety
DTSTART:20240104T140000Z
DTEND:20240104T160000Z
ATTACH;FILENAME=SchoolSafety (Instagram Post) (1).jpg;FMTTYPE=image/jpeg:ht
 tps://campussuite-storage.s3.amazonaws.com/prod/1073488/5732be85-34e8-11e7
 -9e05-124f7febbf4a/2717862/719a4f02-a021-11ee-b7af-0a58a9feac02/file/Schoo
 lSafety (Instagram Post) (1).jpg
END:VEVENT
END:VCALENDAR
