BEGIN:VCALENDAR
VERSION:2.0
PRODID:SchoolNow
CALSCALE:GREGORIAN
BEGIN:VEVENT
UID:6b49ad8e-7360-11ee-944a-0a58a9feac02
DTSTAMP:20231025T180258Z
SUMMARY:SAS Institute 2023
LOCATION:Hershey Lodge
URL;VALUE=URI:https://www.iu5.org/calendar/4899508/sas-institute-2023
DTSTART;VALUE=DATE:20231211
DTEND;VALUE=DATE:20231214
END:VEVENT
END:VCALENDAR
