BEGIN:VCALENDAR
VERSION:2.0
PRODID:SchoolNow
CALSCALE:GREGORIAN
BEGIN:VEVENT
UID:161b5004-954e-11ef-b027-0a58a9feac02
DTSTAMP:20241028T170008Z
SUMMARY:SAS Institute 2024\, Purposeful Leadership: Support. Empower. Partn
 er
URL;VALUE=URI:https://www.iu5.org/about-us/calendar/6914655/sas-institute-2
 024-purposeful-leadership-support-empower-partner
DTSTART:20241208T130000Z
DTEND:20241211T230000Z
END:VEVENT
END:VCALENDAR
