BEGIN:VCALENDAR
VERSION:2.0
PRODID:SchoolNow
CALSCALE:GREGORIAN
BEGIN:VEVENT
UID:5e25af30-8805-11ef-8bb0-0a58a9feac02
DTSTAMP:20250319T191941Z
SUMMARY:2025 Regional Math 24 Tournament Grades 6-8
URL;VALUE=URI:https://www.iu5.org/about-us/calendar/6805350/2025-regional-m
 ath-24-tournament-grades-6-8
DTSTART:20250520T130000Z
DTEND:20250520T160000Z
END:VEVENT
END:VCALENDAR
