BEGIN:VCALENDAR
VERSION:2.0
PRODID:SchoolNow
CALSCALE:GREGORIAN
BEGIN:VEVENT
UID:b5089c1e-8804-11ef-9381-0a58a9feac02
DTSTAMP:20250319T191108Z
SUMMARY:Regional Stem Design Challenge Grades 6-8
URL;VALUE=URI:https://www.iu5.org/about-us/calendar/6805347/regional-stem-d
 esign-challenge-grades-6-8
DTSTART:20250402T130000Z
DTEND:20250402T163000Z
END:VEVENT
END:VCALENDAR
