BEGIN:VCALENDAR
VERSION:2.0
PRODID:SchoolNow
CALSCALE:GREGORIAN
BEGIN:VEVENT
UID:7aaefe8c-8804-11ef-9e2a-0ea62f8aba89
DTSTAMP:20250319T191018Z
SUMMARY:Regional Stem Design Challenge Grades 4&5
URL;VALUE=URI:https://www.iu5.org/about-us/calendar/6805346/regional-stem-d
 esign-challenge-grades-4-5
DTSTART:20250401T130000Z
DTEND:20250401T163000Z
END:VEVENT
END:VCALENDAR
