BEGIN:VCALENDAR
VERSION:2.0
PRODID:SchoolNow
CALSCALE:GREGORIAN
BEGIN:VEVENT
UID:c8176892-247b-11ed-a2f4-028a0ffcc7ed
DTSTAMP:20230118T195957Z
SUMMARY:Student Assistance Program (SAP) Training
DESCRIPTION:SAP 3-day training for Erie\, Crawford\, and Warren Counties on
 ly. This program is designed for new members of existing Student Assistanc
 e Program (SAP) school teams. The training will provide new team members w
 ith the skills and knowledge necessary to become active members of an exis
 ting team. Training is developed based on Commonwealth-approved competenci
 es. Attendance is required for the entire training.
LOCATION:IU5 252 Waterford St.\, Edinboro\, PA 16412
URL;VALUE=URI:https://www.iu5.org/about-us/calendar/3303641/student-assista
 nce-program-sap-training
DTSTART:20230208T133000Z
DTEND:20230208T210000Z
END:VEVENT
END:VCALENDAR
