BEGIN:VCALENDAR
VERSION:2.0
PRODID:SchoolNow
CALSCALE:GREGORIAN
BEGIN:VEVENT
UID:7d9d2912-a48f-11ec-8d09-0e6a69ecc4a5
DTSTAMP:20230118T200057Z
SUMMARY:Student Assistance Program (SAP) Training
DESCRIPTION:SAP 3-day training for Erie\, Crawford\, and Warren Counties on
 ly. This program is designed for new members of existing Student Assistanc
 e Program (SAP) school teams. The training will provide new team members w
 ith the skills and knowledge necessary to become active members of an exis
 ting team. Training is developed based on Commonwealth-approved competenci
 es. Attendance is required for the entire training.
LOCATION:IU5 252 Waterford St.\, Edinboro\, PA 16412
URL;VALUE=URI:https://www.iu5.org/about-us/calendar/3133825/student-assista
 nce-program-sap-training
DTSTART:20220928T133000Z
DTEND:20220928T200000Z
END:VEVENT
END:VCALENDAR
